BEGIN:VCALENDAR
VERSION:2.0
PRODID:-//ChamberMaster//Event Calendar 2.0//EN
METHOD:PUBLISH
X-PUBLISHED-TTL:P3D
REFRESH-INTERVAL:P3D
CALSCALE:GREGORIAN
BEGIN:VEVENT
DTSTART:20240627T210000Z
DTEND:20240627T223000Z
X-MICROSOFT-CDO-ALLDAYEVENT:FALSE
SUMMARY:How to Write a Children's Book
DESCRIPTION:The Azbirmarine by Russ Stephens\n\n\n\nJoin Senior Friendship Center for an exciting event where Russ Stephens\, children's book author\, will share his tips and tricks on crafting captivating stories for young readers. Whether you're a budding writer or just curious about the process\, this is an event you won't want to miss.\n\n\n\nThis event is FREE but advance registration requested.\n\n\n\nHallie Peilet Young\, owner of No Blues News will interview Russ. She is also a children's author and writer of the book\, My Disability is My SuperPower\, available on Amazon.\n\n\n\nAbout the Author\n\nRuss Stephens is a graduate of Northwestern University\, and after serving in the Korean War\, earned his J.D. from the University of Illinois School of Law. He moved on to business management\, has traveled to over 160 countries\, and retired to Siesta Key. At 91\, Russ completed his lifelong project: a children's book he's been crafting for about 80 years. His inspiring journey proves that age is just a number when it comes to creativity and determination. The book is illustrated by his granddaughter Alyssa Stewart.
X-ALT-DESC;FMTTYPE=text/html:<br />\n<em>The Azbirmarine</em> by Russ Stephens<br />\n<br />\nJoin <a href="https://www.siestakeychamber.com/listing/senior-friendship-center/" target="_blank">Senior Friendship Center</a> for an exciting event where Russ Stephens\, children&#39\;s book author\, will share his tips and tricks on crafting captivating stories for young readers. Whether you&#39\;re a budding writer or just curious about the process\, this is an event you won&#39\;t want to miss.<br />\n<br />\nThis event is FREE but <a href="https://www.eventbrite.com/e/how-to-write-a-childrens-book-russ-stephens-tickets-921027135957" target="_blank">advance registration requested</a>.<br />\n<br />\nHallie Peilet Young\, owner of <a href="https://www.siestakeychamber.com/listing/no-blues-news/" target="_blank">No Blues News</a> will interview Russ. She is also a children&#39\;s author and writer of the book\, <em>My Disability is My SuperPower</em>\, available on Amazon.<br />\n<br />\n<strong>About the Author</strong><br />\nRuss Stephens is a graduate of Northwestern University\, and after serving in the Korean War\, earned his J.D. from the University of Illinois School of Law. He moved on to business management\, has traveled to over 160 countries\, and retired to Siesta Key. At 91\, Russ completed his lifelong project: a children&#39\;s book he&#39\;s been crafting for about 80 years. His inspiring journey proves that age is just a number when it comes to creativity and determination. The book is illustrated by his granddaughter Alyssa Stewart.
LOCATION:Senior Friendship Center
UID:e.2312.2843
SEQUENCE:3
DTSTAMP:20260424T054752Z
URL:http://events.siestakeychamber.com/events/details/how-to-write-a-children-s-book-2843
END:VEVENT

END:VCALENDAR
