BEGIN:VCALENDAR
VERSION:2.0
PRODID:-//ChamberMaster//Event Calendar 2.0//EN
METHOD:PUBLISH
X-PUBLISHED-TTL:P3D
REFRESH-INTERVAL:P3D
CALSCALE:GREGORIAN
BEGIN:VEVENT
DTSTART:20190503T153000Z
DTEND:20190503T170000Z
X-MICROSOFT-CDO-ALLDAYEVENT:FALSE
SUMMARY:May Networking Luncheon- Clayton's Siesta Grille
DESCRIPTION:You're invited to the Siesta Key Chamber's May Networking Luncheon at Clayton's Siesta Grille! Come meet and network with your fellow Chamber members\, enjoy a delicious meal\, and possibly win a prize!\n\n\n\nLuncheons are $18 and RSVP's are required. Please bring a door prize to promote your business and don't forget your business card! Registration will close on May 1st.\n\n\n\nMenu: \nCajun onion crusted salmon with horseradish cream sauce\n\nChicken Italiano (grilled chicken breasts topped with sundried tomatoes\, basil\, wild mushrooms and goat cheese and drizzled with lemon butter sauce)\n\nPolenta stuffed peppers (vegetarian)\n\nMushrooms risotto\n\nMarket vegetable\n\nMacadamia nut brownies
X-ALT-DESC;FMTTYPE=text/html:<span style="font-size:14px\;">You&#39\;re invited to the Siesta Key Chamber&#39\;s May Networking Luncheon at Clayton&rsquo\;s Siesta Grille! Come meet and network with your fellow Chamber members\, enjoy a delicious meal\, and possibly win a prize!<br />\n<br />\nLuncheons are $18 and RSVP&#39\;s are required. Please bring a door prize to promote your business and don&#39\;t forget your business card! Registration will close on May 1st.</span><br />\n<br />\nMenu:&nbsp\;\n<p style="margin: 0px 0px 18px\; padding: 0px\; font-family: Verdana\, Geneva\, sans-serif\; font-size: 12px\; text-align: center\;">Cajun onion crusted salmon with horseradish cream sauce</p>\n\n<p style="margin: 0px 0px 18px\; padding: 0px\; font-family: Verdana\, Geneva\, sans-serif\; font-size: 12px\; text-align: center\;">Chicken Italiano (grilled chicken breasts topped with sundried tomatoes\, basil\, wild mushrooms and goat cheese and drizzled with lemon butter sauce)</p>\n\n<p style="margin: 0px 0px 18px\; padding: 0px\; font-family: Verdana\, Geneva\, sans-serif\; font-size: 12px\; text-align: center\;">Polenta stuffed peppers (vegetarian)</p>\n\n<p style="margin: 0px 0px 18px\; padding: 0px\; font-family: Verdana\, Geneva\, sans-serif\; font-size: 12px\; text-align: center\;">Mushrooms risotto</p>\n\n<p style="margin: 0px 0px 18px\; padding: 0px\; font-family: Verdana\, Geneva\, sans-serif\; font-size: 12px\; text-align: center\;">Market vegetable</p>\n\n<p style="margin: 0px 0px 18px\; padding: 0px\; font-family: Verdana\, Geneva\, sans-serif\; font-size: 12px\; text-align: center\;">Macadamia nut brownies</p>\n
LOCATION:Clayton's Siesta Grille 1256 Old Stickney Point Rd. Siesta Key\, FL 34242
UID:e.2312.1443
SEQUENCE:3
DTSTAMP:20260424T051428Z
URL:https://events.siestakeychamber.com/events/details/may-networking-luncheon-clayton-s-siesta-grille-1443
END:VEVENT

END:VCALENDAR
